BEGIN:VCALENDAR
VERSION:2.0
PRODID:-//wp-events-plugin.com//7.2.2.1//EN
BEGIN:VEVENT
UID:35@cardsandcollectors.com
DTSTART:20260313T170000Z
DTEND:20260313T210000Z
DTSTAMP:20260225T203227Z
URL:https://cardsandcollectors.com/events/cards-and-coffee/
SUMMARY:Cards and Coffee
DESCRIPTION:San Diego Cards &amp\; Coffee – Pokémon &amp\; TCG Trade Nig
 ht in La Mesa\nBuy • Sell • Trade Trading Cards in East County San Die
 go\n📅 Thursday\, March 13\, 2026⏰ 5:00 PM – 9:00 PM📍 Public Squa
 re Coffee House – La Mesa\, CA🎟️ Free Entry | All Ages Welcome\nLoo
 king for a San Diego Pokémon event\, TCG trade night\, or a fun Friday ni
 ght card meetup in East County? Join us for San Diego Cards &amp\; Coffee\
 , the ultimate weekly-style trading card hangout hosted by Hosted by Card 
 and Collectors\, SD Card Club at Public Square in the heart of La Mesa Vi
 llage.\nThis free-entry community event brings together collectors from ac
 ross San Diego County to buy\, sell\, and trade Pokémon cards\, sports ca
 rds\, Magic: The Gathering\, One Piece\, Lorcana\, and more — all while 
 enjoying great coffee\, themed drinks\, music\, and the energy of the La M
 esa Village Farmers Market happening nearby.\nIf you’re searching for:\n
 \n\n 	\nPokémon trade night San Diego\n\n 	\nSan Diego card shows\n\n 	\n
 TCG events near La Mesa\n\n 	\nBuy and sell sports cards San Diego\n\n 	\n
 East County trading card meetups\n\n\nThis is your spot.\n\n\n\n\nWhat to 
 Expect at San Diego Cards &amp\; Coffee\n🃏 Buy • Sell • Trade All M
 ajor TCGs\n\n 	\nPokémon (vintage\, modern\, slabs\, sealed)\n\n 	\nSport
 s cards (NBA\, NFL\, MLB &amp\; more)\n\n 	\nMagic: The Gathering\n\n 	\nO
 ne Piece\n\n 	\nDisney Lorcana\n\n 	\nRaw singles\, binders\, graded cards
  &amp\; sealed product\n\n\nBring your binders\, trade boxes\, and collect
 ions. This is an open trading environment designed for real collectors.\n\
 n\n\n\n🎶 Live DJ &amp\; Community Vibes\nA live DJ keeps the energy hig
 h throughout the night\, making this more than just a card meetup — it
 ’s a social experience for the San Diego hobby community.\n\n\n\n\n☕ P
 okémon-Themed Drinks &amp\; Specialty Menu\nPublic Square features specia
 l themed drinks and menu items inspired by your favorite pocket monsters. 
 Grab a custom latte\, specialty coffee\, or evening beverage while you tra
 de.\n\n\n\n\n🎁 Giveaways Throughout the Night\nWe’ll be running givea
 ways including:\n\n\n 	\nFree card packs\n\n 	\nPokémon product\n\n 	\nSe
 aled Product\n\n\nStay engaged — winners are announced live during the e
 vent.\n\n\n\n\nLocated in the Heart of La Mesa Village\n📍 Public Square
  Coffee House8278 La Mesa Blvd\, La Mesa\, CA 91942\nCards &amp\; Coffee t
 akes place during and after the La Mesa Village Farmers Market (3:00 PM 
 – 7:00 PM)\, bringing additional foot traffic\, local vendors\, fresh fo
 od\, and a strong community atmosphere to the area.\nThis makes it one of 
 the most unique San Diego trading card events — combining cards\, coffee
 \, music\, and a vibrant East County setting.\n\n\n\n\nWho Should Attend?\
 n\n 	\nPokémon collectors in San Diego\n\n 	\nSports card buyers and sell
 ers\n\n 	\nTCG players and deck builders\n\n 	\nFamilies looking for thing
 s to do in La Mesa\n\n 	\nNew collectors entering the hobby\n\n 	\nAnyone 
 searching for Friday night events in San Diego\n\n\nWhether you’re hunti
 ng grails\, flipping inventory\, completing sets\, or just meeting other c
 ollectors\, this is one of the fastest-growing local card events in San Di
 ego.\n\n\n\n\nVendor &amp\; Contact Information\nPresented by SD Card Club
 \n📲 Contact Ryan – Cards &amp\; CollectorsPhone/Text: (619) 734-6771E
 mail: ryan@cardsandcollectors.com🌐 cardsandcollectors.com\nFollow for u
 pdates: @sdcardclub\nInterested in vending at future San Diego card events
 ? Reach out directly — limited space available.\n\n\n\n\nSave the Date\n
 March 13\, 2026 | 5PM – 9PMSan Diego Cards &amp\; CoffeeLa Mesa\, Califo
 rnia\nYour go-to San Diego Pokémon trade night\, TCG meetup\, and East Co
 unty card community event.\nCards. Coffee. Community. 🃏☕
ATTACH;FMTTYPE=image/jpeg:https://cardsandcollectors.com/wp-content/upload
 s/2026/02/Cards-and-Coffee-1.png
CATEGORIES:San Diego
LOCATION:Public Square\, 8278 La Mesa Blvd\, La Mesa\, CA\, 91941\, United 
 States
X-APPLE-STRUCTURED-LOCATION;VALUE=URI;X-ADDRESS=8278 La Mesa Blvd\, La Mesa
 \, CA\, 91941\, United States;X-APPLE-RADIUS=100;X-TITLE=Public Square:geo
 :0,0
END:VEVENT
END:VCALENDAR